BEGIN:VCALENDAR
VERSION:2.0
PRODID:-//hacksw/handcal//NONSGML v1.0//EN
BEGIN:VEVENT
SUMMARY:Championnat ID Sud GAM ESM Marsan
UID:6da8aa7f-b4a5-4180-b2c9-b0789af798bc
DTSTART:20260313T230000Z
DTEND:20260315T230000Z
LOCATION:Localisation   
CATEGORIES:Sportif
STATUS:
DESCRIPTION:<p>Championnat interdepartemental GAM - ESM Marsan
 -Equipes : Performance et Federal A.</p>
URL;VALUE=URI:https://comitegymdordogne.sportsregions.fr/evenements/2026/03/14/championnat-id-sud-gam-esm-marsan-2425488
END:VEVENT
END:VCALENDAR
